BEGIN:VCALENDAR
VERSION:2.0
PRODID:-//Undergraduate Research &amp; Fellowships - ECPv5.16.4.1//NONSGML v1.0//EN
CALSCALE:GREGORIAN
METHOD:PUBLISH
X-WR-CALNAME:Undergraduate Research &amp; Fellowships
X-ORIGINAL-URL:https://undergraduate.northeastern.edu/research
X-WR-CALDESC:Events for Undergraduate Research &amp; Fellowships
BEGIN:VTIMEZONE
TZID:UTC
BEGIN:STANDARD
TZOFFSETFROM:+0000
TZOFFSETTO:+0000
TZNAME:UTC
DTSTART:20180101T000000
END:STANDARD
END:VTIMEZONE
BEGIN:VEVENT
DTSTART;TZID=UTC:20180116T180000
DTEND;TZID=UTC:20180116T190000
DTSTAMP:20260425T162755
CREATED:20171218T183958Z
LAST-MODIFIED:20171220T152822Z
UID:4640-1516125600-1516129200@undergraduate.northeastern.edu
SUMMARY:SSIRF Overview Workshop
DESCRIPTION:Summer Scholars Independent Research Fellowships (SSIRFs) are designed to support original\, student-initiated independent research\, creative performance\, and project making in close collaboration with a faculty mentor. This workshop will go over the general aspects of the award and application process. \nRegister
URL:https://undergraduate.northeastern.edu/research/event/sirf-overview-workshop-2/
LOCATION:Undergraduate Research and Fellowships – 450 Dodge Hall\, 360 Huntington Ave\, Boston\, MA\, 02115\, United States
CATEGORIES:Information Sessions
ATTACH;FMTTYPE=image/jpeg:/research/wp-content/uploads/sites/3/2014/07/Banner-Caribbean-Corals.jpg
END:VEVENT
END:VCALENDAR